BEGIN:VCALENDAR
PRODID:-//Microsoft Corporation//Outlook MIMEDIR//EN
VERSION:2.0
METHOD:PUBLISH
BEGIN:VEVENT
DTSTART:20260430T100000
DTEND:20260430T110000
DESCRIPTION:REGULAR MEETING 10:00AM
LOCATION:Rialto City Hall, Council Chambers, 150 S. Palm Ave. Rialto CA 92376
SUMMARY:Water Subcommittee
CATEGORIES:MEETING
END:VEVENT
END:VCALENDAR
