BEGIN:VCALENDAR
PRODID:-//Microsoft Corporation//Outlook MIMEDIR//EN
VERSION:2.0
METHOD:PUBLISH
BEGIN:VEVENT
DTSTART:20260421T180000
DTEND:20260421T190000
DESCRIPTION:CANCELED
LOCATION:Rialto City Hall, Council Chambers, 150 S. Palm Ave. Rialto CA 92376
SUMMARY:Cable Advisory and Utilities Commission
CATEGORIES:MEETING
END:VEVENT
END:VCALENDAR
